BEGIN:VCALENDAR
VERSION:2.0
PRODID:-//Nesifa Café - ECPv6.15.20//NONSGML v1.0//EN
CALSCALE:GREGORIAN
METHOD:PUBLISH
X-ORIGINAL-URL:https://nesifacafe.de
X-WR-CALDESC:Veranstaltungen für Nesifa Café
REFRESH-INTERVAL;VALUE=DURATION:PT1H
X-Robots-Tag:noindex
X-PUBLISHED-TTL:PT1H
BEGIN:VTIMEZONE
TZID:Europe/Berlin
BEGIN:DAYLIGHT
TZOFFSETFROM:+0100
TZOFFSETTO:+0200
TZNAME:CEST
DTSTART:20220327T010000
END:DAYLIGHT
BEGIN:STANDARD
TZOFFSETFROM:+0200
TZOFFSETTO:+0100
TZNAME:CET
DTSTART:20221030T010000
END:STANDARD
BEGIN:DAYLIGHT
TZOFFSETFROM:+0100
TZOFFSETTO:+0200
TZNAME:CEST
DTSTART:20230326T010000
END:DAYLIGHT
BEGIN:STANDARD
TZOFFSETFROM:+0200
TZOFFSETTO:+0100
TZNAME:CET
DTSTART:20231029T010000
END:STANDARD
BEGIN:DAYLIGHT
TZOFFSETFROM:+0100
TZOFFSETTO:+0200
TZNAME:CEST
DTSTART:20240331T010000
END:DAYLIGHT
BEGIN:STANDARD
TZOFFSETFROM:+0200
TZOFFSETTO:+0100
TZNAME:CET
DTSTART:20241027T010000
END:STANDARD
BEGIN:DAYLIGHT
TZOFFSETFROM:+0100
TZOFFSETTO:+0200
TZNAME:CEST
DTSTART:20250330T010000
END:DAYLIGHT
BEGIN:STANDARD
TZOFFSETFROM:+0200
TZOFFSETTO:+0100
TZNAME:CET
DTSTART:20251026T010000
END:STANDARD
END:VTIMEZONE
BEGIN:VEVENT
DTSTART;TZID=Europe/Berlin:20240427T193000
DTEND;TZID=Europe/Berlin:20240427T213000
DTSTAMP:20260421T135046
CREATED:20230406T150948Z
LAST-MODIFIED:20240417T140829Z
UID:10000278-1714246200-1714253400@nesifacafe.de
SUMMARY:Audible Friends Blues-Rock A la Carte
DESCRIPTION:Wir freuen uns euch \,\,Audible Friends“ präsentieren zu dürfen. \nAm 27.04.2024 um 19:30 Uhr geht es los mit Blues-Rock A la Carte aus Essen. \nAudible Friends“ aus Essen spielen Rock und ähnliche Genre und interpretieren auf eigene Weise legendäre Klassiker und unbekannte Stücke fern des Mainstreams. \nDie offiziell 2016 als Trio gegründete Band ist seit Anfang 2022 als „Audible Friends“ in der aktuellen Formation unterwegs. Dabei haben alle Musiker bereits seit drei Jahrzehnten immer wieder in verschiedenen Projekten zusammengespielt. \nDie Band präsentiert Hits u.a. von Joe Bonamassa\, Toto\, Thomas Blug\, aber auch J.S. Bach im Rockgewand sowie Eigenkompositionen\, die bisher nur eingefleischten Kennern bekannt sind. \nDie Musiker aus dem Ruhrgebiet lieben es facettenreich. Genres und Stile wechseln sich im Repertoire eines Konzertabends ab und schaffen so ein unvergessliches Event\, das die Zuhörer zum Wohlfühlen einlädt und mit wertvollen gedanklichen Akzenten bis in den Alltag begleitet. \n  \nZu „Audible Friends“ gehören:   \nJürgen Bialowons: Gesang\, Keyboard \nDieter Kitschun: Bass \nHendrik Rathmann: Drums \nWolfgang Rathmann: Gitarren \nOliver Schmidt: Tontechnik
URL:https://nesifacafe.de/veranstaltung/audible-friends-blues-rock-a-la-carte/
LOCATION:Nesifa Café & Bar\, Franziskastraße 69\, Essen\, Nordrhein-Westfalen\, 45131\, Deutschland
ATTACH;FMTTYPE=image/jpeg:https://nesifacafe.de/wp-content/uploads/2023/04/Audible-Friends.jpg
ORGANIZER;CN="Nesifa Caf%C3%A9 & Bar":MAILTO:kontakt@nesifacafe.de
END:VEVENT
BEGIN:VEVENT
DTSTART;TZID=Europe/Berlin:20240412T193000
DTEND;TZID=Europe/Berlin:20240412T213000
DTSTAMP:20260421T135046
CREATED:20240312T220848Z
LAST-MODIFIED:20240312T220848Z
UID:10000326-1712950200-1712957400@nesifacafe.de
SUMMARY:Das Duo DUIMA Live
DESCRIPTION:Klassische Musik\, Jazz- und Popmusik innerhalb eines Songs miteinander verbinden? Geht das? Das Duo DUIMA\, bestehend aus Isabel Wamig und Micha Lorenz macht genau das.Mit ihrer Vielseitigkeit vereinen die beiden die verschiedenen Musiktraditionen zu einem eigenen Multigenre. Mit ihren eigenen Werken und Arrangements entführen Stimme und Gitarren\, unterstützt von Violine\, Poesie und Tanz in eine multidimensionale Klangwelt. DUIMA sprengt traditionelle Grenzen und zaubert vielschichtige und gefühlsintensive Momente und Atmosphären für das Publikum.
URL:https://nesifacafe.de/veranstaltung/das-duo-duima-live/
LOCATION:Nesifa Café & Bar\, Franziskastraße 69\, Essen\, Nordrhein-Westfalen\, 45131\, Deutschland
ATTACH;FMTTYPE=image/jpeg:https://nesifacafe.de/wp-content/uploads/2024/03/thumbnail_DUIMA_018.jpg
ORGANIZER;CN="Nesifa Caf%C3%A9 & Bar":MAILTO:kontakt@nesifacafe.de
END:VEVENT
BEGIN:VEVENT
DTSTART;TZID=Europe/Berlin:20240218T160000
DTEND;TZID=Europe/Berlin:20240218T190000
DTSTAMP:20260421T135046
CREATED:20231129T172421Z
LAST-MODIFIED:20240123T215711Z
UID:10000321-1708272000-1708282800@nesifacafe.de
SUMMARY:Acryl-Mal-Workshop : Chillout & Paint
DESCRIPTION:Acryl-Mal-Workshop : Chillout & Paint\n10. Dezember\, 16 – 19 Uhr\nDu wolltest schon immer lernen\, wie man malt\, weißt aber nicht\, wie Du anfangen sollst? Dann freuen wir uns\, Dich in unserem Mal-Workshop an dein Kunstwerk heranzuführen!\nIn kleinen Gruppen von max. 12 Personen werdet Ihr Schritt für Schritt durch den Malprozess eines Motivs geführt. So könnt ihr auch ohne Vorkenntnisse am Ende des Abends euer Kunstwerk mit nach Hause nehmen. In einer entspannten Atmosphäre könnt Ihr für einen Abend mit Acrylfarbe auf Leinwand eure kreative Ader entdecken.\nEin Begrüßungsaperitif\, eine Pause mit Café und Kuchen\, sowie das Material (Leinwand\, Farben Pinsel\,…) sind inklusive!\nTeilnahmegebühr: 39 €
URL:https://nesifacafe.de/veranstaltung/acryl-mal-workshop-chillout-paint/
LOCATION:Nesifa Café & Bar\, Franziskastraße 69\, Essen\, Nordrhein-Westfalen\, 45131\, Deutschland
ATTACH;FMTTYPE=image/jpeg:https://nesifacafe.de/wp-content/uploads/2023/11/WhatsApp-Image-2023-11-29-at-18.23.11-1.jpeg
ORGANIZER;CN="Nesifa Caf%C3%A9 & Bar":MAILTO:kontakt@nesifacafe.de
END:VEVENT
BEGIN:VEVENT
DTSTART;TZID=Europe/Berlin:20240202T193000
DTEND;TZID=Europe/Berlin:20240202T213000
DTSTAMP:20260421T135046
CREATED:20240125T011147Z
LAST-MODIFIED:20240125T011310Z
UID:10000324-1706902200-1706909400@nesifacafe.de
SUMMARY:Chez Veza Live
DESCRIPTION:Ob Hard Rock\, Light Jazz\, Hip Hop oder Singer-Songwriter-\nProjekte – seit über zwei Jahrzehnten stehen Medi Kubitza\n(Gesang) und Sebastian Schnabel (Gitarre) in unterschiedlichen\nBesetzungen auf den Bühnen Deutschlands von Hamburg bis\nAschaffenburg\, von Köln bis Jena.\nAuf den musikalischen Reisen kreuzten sich ihre Wege immer\nwieder und mit dem in Musikerkreisen obligatorischen Klassiker\n„Lass uns mal etwas zusammen machen“ wurde tatsächlich der\nGrundstein für die gemeinsame musikalische Geschichte gelegt.
URL:https://nesifacafe.de/veranstaltung/chez-veza-live/
LOCATION:Nesifa Café & Bar\, Franziskastraße 69\, Essen\, Nordrhein-Westfalen\, 45131\, Deutschland
ATTACH;FMTTYPE=image/jpeg:https://nesifacafe.de/wp-content/uploads/2024/01/IMG_6913-1.jpeg
ORGANIZER;CN="Nesifa Caf%C3%A9 & Bar":MAILTO:kontakt@nesifacafe.de
END:VEVENT
BEGIN:VEVENT
DTSTART;TZID=Europe/Berlin:20231208T190000
DTEND;TZID=Europe/Berlin:20231208T210000
DTSTAMP:20260421T135046
CREATED:20231127T150120Z
LAST-MODIFIED:20231127T150120Z
UID:10000320-1702062000-1702069200@nesifacafe.de
SUMMARY:Grup Doga Live
DESCRIPTION:Grup Doga (Hasan und Cem)\, bestehend aus zwei Musikern die zwei Instrumente mit unterschiedlichen Vocals miteinander harmonisieren lassen. Freut euch auf traditionelle folkloristische Lieder (Kurdisch\, Kurmanci\, Zazaki\, Türkisch) zu einer Rundreise durch Anatolien.
URL:https://nesifacafe.de/veranstaltung/grup-doga-live/
LOCATION:Nesifa Café & Bar\, Franziskastraße 69\, Essen\, Nordrhein-Westfalen\, 45131\, Deutschland
ATTACH;FMTTYPE=image/jpeg:https://nesifacafe.de/wp-content/uploads/2023/11/Grup-Dogan.jpg
ORGANIZER;CN="Nesifa Caf%C3%A9 & Bar":MAILTO:kontakt@nesifacafe.de
END:VEVENT
BEGIN:VEVENT
DTSTART;TZID=Europe/Berlin:20231201T200000
DTEND;TZID=Europe/Berlin:20231201T220000
DTSTAMP:20260421T135046
CREATED:20231122T152753Z
LAST-MODIFIED:20231122T152753Z
UID:10000319-1701460800-1701468000@nesifacafe.de
SUMMARY:KNUD Jazz Collective from Germany
DESCRIPTION:Das KNUD Trio besteht aus Kevin Hemkemeier am Bass\, Jonathan Schierhorn am Schlagzeug und Jona Hahn am Klavier\, und formierte sich durch das gemeinsame Jazz Studium an der Folkwang Universität der Künste in Essen. \nUm Ostern 2021 kam uns die Idee ein musikalisches Repertoire von Eigenkompositionen zu entwickeln\, das wir\, in einer Zeit in der Live Auftritte wieder zugelassen sind\, einem Publikum präsentieren können. \nDiese Musik sollte fern von schwermütigen Klängen sein\, um die Freude zu verbreiten\, endlich wieder beisammen sein zu können. \nWir haben uns hierbei vom Sound bekannter Gruppen\, wie zum Beispiel dem Esbjörn Svensson Trio\, dem Mark Guiliana Jazz Quartet und Phronesis\, inspirieren lassen\, und unter anderem den Fokus auf rhythmische Vielfalt in Kombination mit schönen eingängigen Melodien gesetzt. \nViele der Stücke entstanden durch Ideen einzelner Mitglieder\, aber auch Jams im Proberaum wurden am Ende zu vollständigen Kompositionen. \nAuch wenn es sich um für sich allein stehende Stücke handelt\, stellen sie alle zusammen betrachtet eine Musikalische Reise dar\, welche durch Hoch und Tiefpunkte gekennzeichnet ist. \nUnser Plan ist es\, diese Reise im Studio und in Form von Tonträgern festzuhalten\, und auch visuell zu untermalen. Sei es auf der Bühne durch Licht oder durch Lichtprojektionen auf ein dreidimensionales Albumcover\, welche sich abhängig von Ereignissen in den Stücken verändern. \nWir wissen\, dass all dies etwas Zeit braucht\, freuen uns aber umso mehr\, das fertige Ergebnis am Ende präsentieren zu dürfen.
URL:https://nesifacafe.de/veranstaltung/knud-jazz-collective-from-germany/
LOCATION:Nesifa Café & Bar\, Franziskastraße 69\, Essen\, Nordrhein-Westfalen\, 45131\, Deutschland
ATTACH;FMTTYPE=image/webp:https://nesifacafe.de/wp-content/uploads/2023/11/KNUD.webp
ORGANIZER;CN="Nesifa Caf%C3%A9 & Bar":MAILTO:kontakt@nesifacafe.de
END:VEVENT
BEGIN:VEVENT
DTSTART;TZID=Europe/Berlin:20231111T200000
DTEND;TZID=Europe/Berlin:20231111T220000
DTSTAMP:20260421T135046
CREATED:20230310T001546Z
LAST-MODIFIED:20231025T231520Z
UID:10000273-1699732800-1699740000@nesifacafe.de
SUMMARY:Back Alley Live im Nesifa
DESCRIPTION:BACK ALLEY Line Up: \nAndreas Strott – Lead-Vocals\,Guitars\nMarcel Nigbur – Lead-Guitars\nUwe Steinmeier – Guitars\, Back-Vocals\nAndreas Korthals – Bass\, Back-Vocals\nTobias Köhne – Drums \nEssen/Ruhrgebiet \nRock ´n´ Roll zu beschreiben ist bekanntlich nicht leicht. Mal weiche\, mal harte Gitarrenklänge gepaart mit dem Fundament\, das durch die Drums und den Bass gelegt wird. Es ist ein Gefühl\, das durch den Körper strömt. Oder kurz: BACK ALLEY. \nSeit Gründung im Jahr 2004 präsentieren sich die 5 Musiker auf den Bühnen des Landes. Ob in gemütlicher Club-Atmosphäre\, oder auf der großen Festival-Bühne. \nEingängige Gesangslinien\, die markante Reibeisenstimme des Leadsängers Andreas Strott gepaart mit mehrstimmigen Background-Vocals\, Gitarrenriffs von Feinsten und einem Fundament aus Dums und Bass\, garantieren einen hohen Wiedererkennungswert. \nDie Spielfreude und Leidenschaft auf der Bühne übertragen sich bei jedem Gig unweigerlich auf das Publikum – vom ersten bis zum letzten Takt ihrer eigenen Songs\, die den größten Teil eines Sets ausmachen. Aber auch einige Rock-Klassiker haben einen festen Platz in ihrem Programm. \nBACK ALLEY schaffen es vorzüglich\, das Publikum mit ihrem breiten Spektrum zu begeistern.
URL:https://nesifacafe.de/veranstaltung/back-alley/
LOCATION:Nesifa Café & Bar\, Franziskastraße 69\, Essen\, Nordrhein-Westfalen\, 45131\, Deutschland
ATTACH;FMTTYPE=image/jpeg:https://nesifacafe.de/wp-content/uploads/2023/03/WhatsApp-Image-2023-10-26-at-01.12.17.jpeg
ORGANIZER;CN="Nesifa Caf%C3%A9 & Bar":MAILTO:kontakt@nesifacafe.de
END:VEVENT
BEGIN:VEVENT
DTSTART;TZID=Europe/Berlin:20231110T193000
DTEND;TZID=Europe/Berlin:20231110T220000
DTSTAMP:20260421T135046
CREATED:20230905T133715Z
LAST-MODIFIED:20231025T235440Z
UID:10000308-1699644600-1699653600@nesifacafe.de
SUMMARY:Kontra Existenz
DESCRIPTION:Lesung und Konzert \nMatthias Gorontzy & Hannes Wittmer (Spaceman Spiff) \nEntwicklungsroman über den Spagat zwischen Wollen und Sollen und der Irrfahrt zum Selbst trifft auf sein musikalisches Gegenstück in deutscher Singer-Songwriter Kunst. \nAnschließende Gesprächsrunde über neue Wege\, wahre Individualität und ihre Herausforderungen \nEintritt: Gib\, was du willst.
URL:https://nesifacafe.de/veranstaltung/kontra-existenz/
LOCATION:Nesifa Café & Bar\, Franziskastraße 69\, Essen\, Nordrhein-Westfalen\, 45131\, Deutschland
ATTACH;FMTTYPE=image/jpeg:https://nesifacafe.de/wp-content/uploads/2023/09/Kontra-Existenz-1.jpg
ORGANIZER;CN="Nesifa Caf%C3%A9 & Bar":MAILTO:kontakt@nesifacafe.de
END:VEVENT
BEGIN:VEVENT
DTSTART;TZID=Europe/Berlin:20231006T190000
DTEND;TZID=Europe/Berlin:20231006T210000
DTSTAMP:20260421T135046
CREATED:20230905T140109Z
LAST-MODIFIED:20231005T090551Z
UID:10000309-1696618800-1696626000@nesifacafe.de
SUMMARY:Rainer Kirchner Live Hutkonzert
DESCRIPTION:Saitenweg (Rainer Kirchner) ist Singer/Songwriter der bevorzugt Lieder spielt\, die nicht so häufig gecovert werden. So finden sich im Programm u.a. Songs von Bob Dylan\, Neil Young\, Tom Waits\, Element of Crime u.v.a. Daneben erzählt er in seinen eigenen Liedern Geschichten aus seinem Leben. Eine Stimme\, eine Gitarre\, gefühlvoll\, minimalistisch und authentisch\, that’s it.
URL:https://nesifacafe.de/veranstaltung/rainer-kirchner-livekonzert/
LOCATION:Nesifa Café & Bar\, Franziskastraße 69\, Essen\, Nordrhein-Westfalen\, 45131\, Deutschland
ORGANIZER;CN="Nesifa Caf%C3%A9 & Bar":MAILTO:kontakt@nesifacafe.de
END:VEVENT
BEGIN:VEVENT
DTSTART;TZID=Europe/Berlin:20230513T200000
DTEND;TZID=Europe/Berlin:20230513T220000
DTSTAMP:20260421T135046
CREATED:20230512T232523Z
LAST-MODIFIED:20230512T232523Z
UID:10000279-1684008000-1684015200@nesifacafe.de
SUMMARY:Live Konzert Andreas Strott
DESCRIPTION:Live im  Nesifa Café \nSinger / Songwriter Andreas Strott \nAb 20:00 Uhr!
URL:https://nesifacafe.de/veranstaltung/live-konzert-andreas-strott/
LOCATION:Nesifa Café & Bar\, Franziskastraße 69\, Essen\, Nordrhein-Westfalen\, 45131\, Deutschland
ORGANIZER;CN="Nesifa Caf%C3%A9 & Bar":MAILTO:kontakt@nesifacafe.de
END:VEVENT
END:VCALENDAR